BEGIN:VCALENDAR
VERSION:2.0
PRODID:-//OKM Music - ECPv6.15.20//NONSGML v1.0//EN
CALSCALE:GREGORIAN
METHOD:PUBLISH
X-WR-CALNAME:OKM Music
X-ORIGINAL-URL:https://okmmusic.org
X-WR-CALDESC:Events for OKM Music
REFRESH-INTERVAL;VALUE=DURATION:PT1H
X-Robots-Tag:noindex
X-PUBLISHED-TTL:PT1H
BEGIN:VTIMEZONE
TZID:UTC
BEGIN:STANDARD
TZOFFSETFROM:+0000
TZOFFSETTO:+0000
TZNAME:UTC
DTSTART:20210101T000000
END:STANDARD
END:VTIMEZONE
BEGIN:VEVENT
DTSTART;TZID=UTC:20230602T090000
DTEND;TZID=UTC:20230608T170000
DTSTAMP:20260425T191434
CREATED:20221214T200352Z
LAST-MODIFIED:20221214T200352Z
UID:9569-1685696400-1686243600@okmmusic.org
SUMMARY:Kids Festival
DESCRIPTION:At OKM Music we hope to bridge the music gap in our public schools and engage\nchildren in the arts while increasing awareness of the importance of arts education. We believe all children should have access to the enriching qualities of music education. Each June\, OKM runs a week long Kids Festival which can include crafts\, literature\, dance\, theatre\, and mainly music. OKM keeps their Kids Festival FREE so all children can have access to the arts.
URL:https://okmmusic.org/event/kids-festival/
END:VEVENT
BEGIN:VEVENT
DTSTART;TZID=UTC:20221206T000000
DTEND;TZID=UTC:20221206T000000
DTSTAMP:20260425T191434
CREATED:20220725T170147Z
LAST-MODIFIED:20220725T170147Z
UID:9354-1670284800-1670284800@okmmusic.org
SUMMARY:St. Nicholas Day
DESCRIPTION:
URL:https://okmmusic.org/event/st-nicholas-day/
ORGANIZER;CN="OKM Music":MAILTO:hello@okmmusic.org
END:VEVENT
BEGIN:VEVENT
DTSTART;TZID=UTC:20221129T150000
DTEND;TZID=UTC:20221129T220000
DTSTAMP:20260425T191434
CREATED:20220725T165656Z
LAST-MODIFIED:20221108T231525Z
UID:9352-1669734000-1669759200@okmmusic.org
SUMMARY:#Giving Tuesday
DESCRIPTION:Join OKM Music for a very special night\, “JOY TO THE VILLE”\, a series if mini concerts presented by Bartlesville Middle School\, High School\, and Homeschool Educators and Students.  OKM Music features its very own Oklahoma grown musicians each #GivingTuesday.  This day is about giving to those charities who make a difference in the community\, State and Country.  For OKM\, this day is about giving to our musicians.  We hope you will help support both by making a donation\, watching these talented musicians and by supporting the arts in your local community.
URL:https://okmmusic.org/event/giving-tuesday/
LOCATION:Ambler Hall\, 415 S. Dewey Ave.\,\, Bartlesville\, OK\, 74003\, United States
ORGANIZER;CN="OKM Music":MAILTO:hello@okmmusic.org
END:VEVENT
BEGIN:VEVENT
DTSTART;TZID=UTC:20221105T100000
DTEND;TZID=UTC:20221105T160000
DTSTAMP:20260425T191434
CREATED:20220722T182119Z
LAST-MODIFIED:20220722T182119Z
UID:9325-1667642400-1667664000@okmmusic.org
SUMMARY:Christkindl Market
DESCRIPTION:
URL:https://okmmusic.org/event/christkindl-market/
LOCATION:OK Mozart Office\, 415 S. Dewey Ave.\,\, Bartlesville\, 74003\, United States
END:VEVENT
BEGIN:VEVENT
DTSTART;TZID=UTC:20221028T180000
DTEND;TZID=UTC:20221028T200000
DTSTAMP:20260425T191434
CREATED:20220725T162957Z
LAST-MODIFIED:20221019T144716Z
UID:9349-1666980000-1666987200@okmmusic.org
SUMMARY:Spooky Strings
DESCRIPTION:
URL:https://okmmusic.org/event/spooky-strings/
LOCATION:Unity Square\, 300 SE Adams Blvd\, Bartlesville\, 74006
ORGANIZER;CN="OKM Music":MAILTO:hello@okmmusic.org
END:VEVENT
BEGIN:VEVENT
DTSTART;TZID=UTC:20221001T150000
DTEND;TZID=UTC:20221001T210000
DTSTAMP:20260425T191434
CREATED:20220722T182203Z
LAST-MODIFIED:20220722T182336Z
UID:9319-1664636400-1664658000@okmmusic.org
SUMMARY:Oktoberfest
DESCRIPTION:
URL:https://okmmusic.org/event/oktoberfest/
LOCATION:OK Mozart Office\, 415 S. Dewey Ave.\,\, Bartlesville\, 74003\, United States
END:VEVENT
END:VCALENDAR