BEGIN:VCALENDAR
VERSION:2.0
PRODID:-//OKM Music - ECPv6.15.20//NONSGML v1.0//EN
CALSCALE:GREGORIAN
METHOD:PUBLISH
X-WR-CALNAME:OKM Music
X-ORIGINAL-URL:https://okmmusic.org
X-WR-CALDESC:Events for OKM Music
REFRESH-INTERVAL;VALUE=DURATION:PT1H
X-Robots-Tag:noindex
X-PUBLISHED-TTL:PT1H
BEGIN:VTIMEZONE
TZID:UTC
BEGIN:STANDARD
TZOFFSETFROM:+0000
TZOFFSETTO:+0000
TZNAME:UTC
DTSTART:20250101T000000
END:STANDARD
END:VTIMEZONE
BEGIN:VEVENT
DTSTART;VALUE=DATE:20261204
DTEND;VALUE=DATE:20261205
DTSTAMP:20260425T160951
CREATED:20251216T220403Z
LAST-MODIFIED:20251216T220403Z
UID:11724-1796342400-1796428799@okmmusic.org
SUMMARY:St. Nicholas Day 2026
DESCRIPTION:The St. Nicholas Day event is a festive\, family-friendly celebration filled with music\, storytelling\, and children’s activities that honor the spirit of generosity and holiday joy. Children will also meet and learn about St. Nicholas.
URL:https://okmmusic.org/st-nicholas-day-2026/
LOCATION:Ambler Hall\, 415 S. Dewey Ave.\,\, Bartlesville\, OK\, 74003\, United States
ORGANIZER;CN="OKM Music":MAILTO:hello@okmmusic.org
END:VEVENT
END:VCALENDAR