BEGIN:VCALENDAR
VERSION:2.0
PRODID:-//OKM Music - ECPv6.15.20//NONSGML v1.0//EN
CALSCALE:GREGORIAN
METHOD:PUBLISH
X-WR-CALNAME:OKM Music
X-ORIGINAL-URL:https://okmmusic.org
X-WR-CALDESC:Events for OKM Music
REFRESH-INTERVAL;VALUE=DURATION:PT1H
X-Robots-Tag:noindex
X-PUBLISHED-TTL:PT1H
BEGIN:VTIMEZONE
TZID:UTC
BEGIN:STANDARD
TZOFFSETFROM:+0000
TZOFFSETTO:+0000
TZNAME:UTC
DTSTART:20250101T000000
END:STANDARD
END:VTIMEZONE
BEGIN:VEVENT
DTSTART;VALUE=DATE:20260529
DTEND;VALUE=DATE:20260605
DTSTAMP:20260423T012819
CREATED:20251216T215713Z
LAST-MODIFIED:20251216T215713Z
UID:11716-1780012800-1780617599@okmmusic.org
SUMMARY:Especially for Kids Music Festival 2026
DESCRIPTION:The Especially for Kids Music Festival is a fun\, family-friendly celebration filled with live music and interactive experiences designed to spark a love of the arts in children. Runs May 29 through June 4.
URL:https://okmmusic.org/2026-especially-for-kids-festival/
LOCATION:Ambler Hall\, 415 S. Dewey Ave.\,\, Bartlesville\, OK\, 74003\, United States
ORGANIZER;CN="OKM Music":MAILTO:hello@okmmusic.org
END:VEVENT
BEGIN:VEVENT
DTSTART;VALUE=DATE:20260605
DTEND;VALUE=DATE:20260608
DTSTAMP:20260423T012819
CREATED:20251216T215905Z
LAST-MODIFIED:20251216T215905Z
UID:11718-1780617600-1780876799@okmmusic.org
SUMMARY:42nd Annual OKM Music Festival
DESCRIPTION:The OKM Music Festival is a vibrant celebration of live music that brings world-class artists and the community together through unforgettable performances. Runs June 5 through June 7.
URL:https://okmmusic.org/2026-festival/
LOCATION:OK
ORGANIZER;CN="OKM Music":MAILTO:hello@okmmusic.org
END:VEVENT
BEGIN:VEVENT
DTSTART;VALUE=DATE:20261003
DTEND;VALUE=DATE:20261004
DTSTAMP:20260423T012819
CREATED:20251216T220057Z
LAST-MODIFIED:20251216T220057Z
UID:11720-1790985600-1791071999@okmmusic.org
SUMMARY:Oktoberfest 2026
DESCRIPTION:Oktoberfest is a lively celebration of German heritage featuring music\, food\, and festive fun for all ages\, while also supporting local artists\, artisans\, and vendors and bringing the community together for a shared family funtastic event.
URL:https://okmmusic.org/oktoberfest-2026/
LOCATION:OK Mozart Office\, 415 S. Dewey Ave.\,\, Bartlesville\, 74003\, United States
ORGANIZER;CN="OKM Music":MAILTO:hello@okmmusic.org
END:VEVENT
BEGIN:VEVENT
DTSTART;VALUE=DATE:20261201
DTEND;VALUE=DATE:20261202
DTSTAMP:20260423T012819
CREATED:20251216T220242Z
LAST-MODIFIED:20251216T220242Z
UID:11722-1796083200-1796169599@okmmusic.org
SUMMARY:#GivingTuesday Concert 2026
DESCRIPTION:#GivingTuesday is a global day of generosity that encourages people to support causes they care about\, and in that spirit\, OKM Music proudly hosts an annual concert each year to give back to the community by sharing the joy of live music and supporting music education for all.
URL:https://okmmusic.org/givingtuesday-2026/
LOCATION:Ambler Hall\, 415 S. Dewey Ave.\,\, Bartlesville\, OK\, 74003\, United States
END:VEVENT
BEGIN:VEVENT
DTSTART;VALUE=DATE:20261204
DTEND;VALUE=DATE:20261205
DTSTAMP:20260423T012819
CREATED:20251216T220403Z
LAST-MODIFIED:20251216T220403Z
UID:11724-1796342400-1796428799@okmmusic.org
SUMMARY:St. Nicholas Day 2026
DESCRIPTION:The St. Nicholas Day event is a festive\, family-friendly celebration filled with music\, storytelling\, and children’s activities that honor the spirit of generosity and holiday joy. Children will also meet and learn about St. Nicholas.
URL:https://okmmusic.org/st-nicholas-day-2026/
LOCATION:Ambler Hall\, 415 S. Dewey Ave.\,\, Bartlesville\, OK\, 74003\, United States
ORGANIZER;CN="OKM Music":MAILTO:hello@okmmusic.org
END:VEVENT
END:VCALENDAR